BEGIN:VCALENDAR
VERSION:2.0
PRODID:-//TYPO3/NONSGML Calendarize//EN


BEGIN:VEVENT
UID:calendarize-uznemsana-magistra-programmas-turpinas
DTSTAMP:20220729T134022Z

DTSTART;VALUE=DATE:20220815
DTEND;VALUE=DATE:20220827
    
SUMMARY:Uzņemšana maģistra programmās turpinās!
DESCRIPTION:Latvijas Universitātes Humanitāro zinātņu fakultātē turpinās pieteikšanās maģistra studiju programmām. Gandrīz visās programmās pieejamas budžeta vietas. Pieteikumus klātienē varēs iesniegt no 15. augusta. Studiju programmās\, kurās ir iestājpārbaudījumi - Anglistika\, Baltu filoloģijas\, Rakstiskā tulkošana - pieteikties varēs līdz 24. augustam\, pārējās programmās - līdz 26. augustam. Ar Humanitāro zinātņu fakultātes maģistra studiju programmu piedāvājumu var iepazīties šeit: https://www.hzf.lu.lv/gribu-studet-hzf/magistra-limena-studijas/
X-ALT-DESC;FMTTYPE=text/html:<p>Latvijas Universitātes Humanitāro zinātņu fakultātē turpinās pieteikšanās maģistra studiju programmām. Gandrīz visās programmās pieejamas budžeta vietas. Pieteikumus klātienē varēs iesniegt no 15. augusta. Studiju programmās\, kurās ir iestājpārbaudījumi - Anglistika\, Baltu filoloģijas\, Rakstiskā tulkošana - pieteikties varēs līdz 24. augustam\, pārējās programmās - līdz 26. augustam. Ar Humanitāro zinātņu fakultātes maģistra studiju programmu piedāvājumu var iepazīties šeit:&nbsp\;<a data-auth="NotApplicable" data-linkindex="1" href="https://www.hzf.lu.lv/gribu-studet-hzf/magistra-limena-studijas/" rel="noopener noreferrer" target="_blank">https://www.hzf.lu.lv/gribu-studet-hzf/magistra-limena-studijas/</a></p>
LOCATION:
END:VEVENT

END:VCALENDAR