BEGIN:VCALENDAR
VERSION:2.0
PRODID:-//TYPO3/NONSGML Calendarize//EN


BEGIN:VEVENT
UID:calendarize-lektora-amata-pretendentes-mgphilol-ievas-blumbergas-atklata-lekcija
DTSTAMP:20260420T173200Z

DTSTART:20260423T073000Z
DTEND:20260423T090000Z
    
SUMMARY:Lektora amata pretendentes Mg.philol. Ievas Blumbergas atklātā lekcija
DESCRIPTION:Sakarā ar izsludināto konkursu uz lektora amatu Valodniecības un literatūrzinātnes nozarē 2026. gada 23. aprīlī plkst. 10.30 LU Humanitāro zinātņu fakultātē norisināsies lektora amata pretendentes Mg.philol. Ievas Blumbergas atklātā lekcija.\nLekcijas tēma:\n“Eine Zeitreise ins 15. Jahrhundert – eine Medienrevolution: Bildung und Verwendung des Passivs”\n“Ceļojums laikā uz 15. gadsimtu – mediju revolūcija: ciešamās kārtas veidošana un lietošana”\nLekcija notiks klātienē\, LU Humanitāro zinātņu fakultātē\, Visvalža ielā 4a\, 426. auditorijā.\n Lekcijā piedalīsies eksperti: vadošā pētniece Ineta Balode un docente Sandija Iesalniece.\nLekcju organizē LU HZF Eiropas valodu nodaļa.
X-ALT-DESC;FMTTYPE=text/html:<p>Sakarā ar izsludināto konkursu uz lektora amatu Valodniecības un literatūrzinātnes nozarē <strong>2026. gada 23. aprīlī plkst. 10.30 </strong>LU Humanitāro zinātņu fakultātē norisināsies lektora amata pretendentes <strong>Mg.philol. Ievas Blumbergas atklātā lekcija.</strong></p>\n<p><strong>Lekcijas tēma:</strong></p>\n<p><strong>“Eine Zeitreise ins 15. Jahrhundert – eine Medienrevolution: Bildung und Verwendung des Passivs”</strong></p>\n<p><strong>“Ceļojums laikā uz 15. gadsimtu – mediju revolūcija: ciešamās kārtas veidošana un lietošana”</strong></p>\n<p>Lekcija notiks klātienē\, LU Humanitāro zinātņu fakultātē\, Visvalža ielā 4a\, 426. auditorijā.</p>\n<p>&nbsp\;Lekcijā piedalīsies eksperti: vadošā pētniece Ineta Balode un docente Sandija Iesalniece.</p>\n<p>Lekcju organizē LU HZF Eiropas valodu nodaļa.</p>
LOCATION:
END:VEVENT

END:VCALENDAR