BEGIN:VCALENDAR
VERSION:2.0
PRODID:-//TYPO3/NONSGML Calendarize//EN


BEGIN:VEVENT
UID:calendarize-lektora-amata-pretendentes-mg-philol-jekaterinas-cernevskas-atklata-lekcija
DTSTAMP:20260421T105405Z

DTSTART:20260423T133000Z
DTEND:20260423T150000Z
    
SUMMARY:Lektora amata pretendentes Mg. philol. Jekaterinas Čerņevskas atklātā lekcija
DESCRIPTION:Ceturtdien\, 23.aprīlī\, Latvijas Universitātes Humanitāro zinātņu fakultātē notiks lektora amata pretendentes valodniecības un literatūrzinātnes nozarē\, lietišķās valodniecības apakšnozarē Mg. philol. Jekaterinas Čerņevskas atklātā lekcija.\nLekcijas tēma “Language Use in Advertisements: Text-pragmatic Perspective”.\nLekcija notiks plkst. 16.30–18.00 LU HZF (Visvalža ielā 4a\, 208. auditorijā).\nEksperti: profesore\, Dr. philol. Gunta Roziņa\, asociētā profesore\, Dr. philol. Zigrīda Vinčela.
X-ALT-DESC;FMTTYPE=text/html:<p><strong>Ceturtdien\, 23.aprīlī\, Latvijas Universitātes Humanitāro zinātņu fakultātē notiks lektora amata pretendentes valodniecības un literatūrzinātnes nozarē\, lietišķās valodniecības apakšnozarē Mg. philol. Jekaterinas Čerņevskas atklātā lekcija.</strong></p>\n<p>Lekcijas tēma <strong>“Language Use in Advertisements: Text-pragmatic Perspective”.</strong></p>\n<p>Lekcija notiks plkst. 16.30–18.00 LU HZF (Visvalža ielā 4a\, 208. auditorijā).</p>\n<p>Eksperti: profesore\, Dr. philol. Gunta Roziņa\, asociētā profesore\,&nbsp\;Dr. philol. Zigrīda Vinčela.</p>
LOCATION:
END:VEVENT

END:VCALENDAR