BEGIN:VCALENDAR
VERSION:2.0
PRODID:-//TYPO3/NONSGML Calendarize//EN


BEGIN:VEVENT
UID:calendarize-lu-humanitaro-zinatnu-fakultates-izlaidums-27-junija-lu-lielaja-aula-raina-bulv-19
DTSTAMP:20220616T112221Z

DTSTART;VALUE=DATE:20220627
DTEND;VALUE=DATE:20220628
    
SUMMARY:LU Humanitāro zinātņu fakultātes izlaidums 27. jūnijā LU Lielajā aulā Raiņa bulv. 19
DESCRIPTION:Plkst. 10:00 diplomus saņems „Angļu filoloģijas” bakalaura studiju programmas (BSP) un maģistra studiju programmas (MSP)\, „Franču filoloģijas” BSP\, „Krievu filoloģijas” BSP un MSP\, „Moderno valodu un biznesa studiju” BSP\,  „Romāņu valodu un kultūru studiju” MSP un  „Vācu filoloģijas” BSP un MSP absolventi.\nPlkst. 16.00 diplomus saņems „Āzijas studiju” BSP\,  „Baltijas jūras reģiona studiju” MSP\, „Baltu filoloģijas” BSP un MSP\,  „Klasiskās filoloģijas” BSP un MSP\,  „Kultūras un sociālās antropoloģijas” BSP un MSP\,  „Konferenču tulkošanas” PMSP\,  „Rakstiskās tulkošanas” PMSP\, „Somugru studiju” BSP un „Orientālistikas” MSP absolventi.\nSveicam visus 2022. gada vasaras izlaiduma absolventus!
X-ALT-DESC;FMTTYPE=text/html:<p><strong>Plkst. 10:00</strong>&nbsp\;diplomus saņems „Angļu filoloģijas” bakalaura studiju programmas (BSP) un maģistra studiju programmas (MSP)\, „Franču filoloģijas” BSP\, „Krievu filoloģijas” BSP un MSP\, „Moderno valodu un biznesa studiju” BSP\, &nbsp\;„Romāņu valodu un kultūru studiju” MSP un &nbsp\;„Vācu filoloģijas” BSP un MSP absolventi.</p>\n<p><strong>Plkst. 16.00</strong>&nbsp\;diplomus saņems „Āzijas studiju” BSP\, &nbsp\;„Baltijas jūras reģiona studiju” MSP\, „Baltu filoloģijas” BSP un MSP\, &nbsp\;„Klasiskās filoloģijas” BSP un MSP\, &nbsp\;„Kultūras un sociālās antropoloģijas” BSP un MSP\, &nbsp\;„Konferenču tulkošanas” PMSP\, &nbsp\;„Rakstiskās tulkošanas” PMSP\, „Somugru studiju” BSP un „Orientālistikas” MSP absolventi.</p>\n<p>Sveicam visus 2022. gada vasaras izlaiduma absolventus!</p>
LOCATION:
END:VEVENT

END:VCALENDAR