BEGIN:VCALENDAR
VERSION:2.0
PRODID:-//TYPO3/NONSGML Calendarize//EN


BEGIN:VEVENT
UID:calendarize-lekcija-baltijas-vacu-valoda-un-tas-nozime-latvijas-kulturainava
DTSTAMP:20260423T103821Z

DTSTART:20260422T153000Z
DTEND:20260422T170000Z
    
SUMMARY:Lekcija "Baltijas vācu valoda un tās nozīme Latvijas kultūrainavā"
DESCRIPTION:Norises vieta: Goethe-Institut Riga (Rīga\, Marijas iela 13 k-1).\nLekcijā pievērsīsies tam\, cik Baltijas vācu valodai ir būtiska nozīme latviešu valodas un literatūras vēstures izzināšanā. Tiks uzsvērts\, ka viduslejasvācu un augšvācu teksti Latvijas arhīvos glabā nozīmīgas vēstures liecības\, kuras nav iespējams pilnvērtīgi izpētīt bez vācu valodas\, īpaši Baltijas vācu valodas\, zināšanām.\nPlašāk par lekciju.
X-ALT-DESC;FMTTYPE=text/html:<p>Norises vieta: <a class="x1i10hfl xjbqb8w x1ejq31n x18oe1m7 x1sy0etr xstzfhl x972fbf x10w94by x1qhh985 x14e42zd x9f619 x1ypdohk xt0psk2 x3ct3a4 xdj266r x14z9mp xat24cr x1lziwak xexx8yu xyri2b x18d9i69 x1c1uobl x16tdsg8 x1hl2dhg xggy1nq x1a2a7pz xkrqix3 x1sur9pj x1fey0fg x1s688f" href="https://www.facebook.com/goetheinstitut.riga?__cft__[0]=AZb9bt0Jf6goGaf74uTGlTRQH_LBQsacCsX6sO6C3qnnSWa2N6eBDaGJPRpT7jKdux1gE9mOAo_aBuiP5T0Bw4RYIXW-Ejztui7uh-cfsdoSQ73lF5Q5BsMIDaxNlLF_AwDQBqpnVY0Phwl4ShgxFb6VkareHNIXdKTxGlew8DJmew4u2EWOhGmpnZRSMSfP87Q&amp\;__tn__=-]K-R">Goethe-Institut Riga</a> (Rīga\, Marijas iela 13 k-1).</p>\n<p>Lekcijā pievērsīsies tam\, cik Baltijas vācu valodai ir būtiska nozīme latviešu valodas un literatūras vēstures izzināšanā. Tiks uzsvērts\, ka viduslejasvācu un augšvācu teksti Latvijas arhīvos glabā nozīmīgas vēstures liecības\, kuras nav iespējams pilnvērtīgi izpētīt bez vācu valodas\, īpaši Baltijas vācu valodas\, zināšanām.</p>\n<p><a href="https://www.goethe.de/ins/lv/lv/ver.cfm?event_id=27247605">Plašāk par lekciju.</a></p>
LOCATION:
END:VEVENT

END:VCALENDAR